Package: GeoTcgaData Version: 2.0.0 Command: /Library/Frameworks/R.framework/Resources/bin/R CMD check --install=check:GeoTcgaData.install-out.txt --library=/Library/Frameworks/R.framework/Resources/library --no-vignettes --timings GeoTcgaData_2.0.0.tar.gz StartedAt: 2023-10-16 02:09:43 -0400 (Mon, 16 Oct 2023) EndedAt: 2023-10-16 02:17:50 -0400 (Mon, 16 Oct 2023) EllapsedTime: 486.8 seconds RetCode: 0 Status: OK CheckDir: GeoTcgaData.Rcheck Warnings: 0