Package: GeoTcgaData Version: 2.0.0 Command: /Library/Frameworks/R.framework/Resources/bin/R CMD build --keep-empty-dirs --no-resave-data GeoTcgaData StartedAt: 2023-10-15 18:34:49 -0400 (Sun, 15 Oct 2023) EndedAt: 2023-10-15 18:37:15 -0400 (Sun, 15 Oct 2023) EllapsedTime: 145.8 seconds RetCode: 0 Status: OK PackageFile: GeoTcgaData_2.0.0.tar.gz PackageFileSize: 3.318 MiB