Package: GeoTcgaData Version: 2.0.0 Command: rm -rf GeoTcgaData.buildbin-libdir && mkdir GeoTcgaData.buildbin-libdir && /Users/biocbuild/BBS/utils/build-universal.sh GeoTcgaData_2.0.0.tar.gz /Library/Frameworks/R.framework/Resources/bin/R GeoTcgaData.buildbin-libdir StartedAt: 2023-10-16 09:29:03 -0400 (Mon, 16 Oct 2023) EndedAt: 2023-10-16 09:31:04 -0400 (Mon, 16 Oct 2023) EllapsedTime: 121.8 seconds RetCode: 0 Status: OK PackageFile: GeoTcgaData_2.0.0.tgz PackageFileSize: 3.424 MiB