Package: GeoDiff Version: 1.6.0 Command: /home/biocbuild/bbs-3.17-bioc/R/bin/R CMD check --install=check:GeoDiff.install-out.txt --library=/home/biocbuild/bbs-3.17-bioc/R/site-library --timings GeoDiff_1.6.0.tar.gz StartedAt: 2023-10-15 21:38:08 -0400 (Sun, 15 Oct 2023) EndedAt: 2023-10-15 21:45:08 -0400 (Sun, 15 Oct 2023) EllapsedTime: 420.5 seconds RetCode: 0 Status: OK CheckDir: GeoDiff.Rcheck Warnings: 0