Package: GenomicTuples Version: 1.34.0 Command: chmod a+r GenomicTuples -R && F:\biocbuild\bbs-3.17-bioc\R\bin\R.exe CMD build --keep-empty-dirs --no-resave-data GenomicTuples StartedAt: 2023-10-15 19:29:16 -0400 (Sun, 15 Oct 2023) EndedAt: 2023-10-15 19:30:09 -0400 (Sun, 15 Oct 2023) EllapsedTime: 53.1 seconds RetCode: 0 Status: OK PackageFile: GenomicTuples_1.34.0.tar.gz PackageFileSize: 303.4 KiB