Package: GenomicTuples Version: 1.34.0 Command: rm -rf GenomicTuples.buildbin-libdir && mkdir GenomicTuples.buildbin-libdir && F:\biocbuild\bbs-3.17-bioc\R\bin\R.exe CMD INSTALL --build --library=GenomicTuples.buildbin-libdir GenomicTuples_1.34.0.tar.gz StartedAt: 2023-10-16 08:51:49 -0400 (Mon, 16 Oct 2023) EndedAt: 2023-10-16 08:52:40 -0400 (Mon, 16 Oct 2023) EllapsedTime: 50.8 seconds RetCode: 0 Status: OK PackageFile: GenomicTuples_1.34.0.zip PackageFileSize: 1.209 MiB