Package: GenomicScores Version: 2.12.1 Command: F:\biocbuild\bbs-3.17-bioc\R\bin\R.exe CMD INSTALL GenomicScores StartedAt: 2023-10-15 17:02:12 -0400 (Sun, 15 Oct 2023) EndedAt: 2023-10-15 17:02:53 -0400 (Sun, 15 Oct 2023) EllapsedTime: 40.7 seconds RetCode: 0 Status: OK