Package: GenomicScores Version: 2.12.1 Command: F:\biocbuild\bbs-3.17-bioc\R\bin\R.exe CMD check --no-multiarch --install=check:GenomicScores.install-out.txt --library=F:\biocbuild\bbs-3.17-bioc\R\library --no-vignettes --timings GenomicScores_2.12.1.tar.gz StartedAt: 2023-10-16 02:32:36 -0400 (Mon, 16 Oct 2023) EndedAt: 2023-10-16 02:41:49 -0400 (Mon, 16 Oct 2023) EllapsedTime: 553.8 seconds RetCode: 0 Status: OK CheckDir: GenomicScores.Rcheck Warnings: 0