Package: GenomicScores Version: 2.12.1 Command: chmod a+r GenomicScores -R && F:\biocbuild\bbs-3.17-bioc\R\bin\R.exe CMD build --keep-empty-dirs --no-resave-data GenomicScores StartedAt: 2023-10-15 19:28:56 -0400 (Sun, 15 Oct 2023) EndedAt: 2023-10-15 19:39:37 -0400 (Sun, 15 Oct 2023) EllapsedTime: 641.4 seconds RetCode: 0 Status: OK PackageFile: GenomicScores_2.12.1.tar.gz PackageFileSize: 2.235 MiB