Package: GenomicScores Version: 2.12.1 Command: rm -rf GenomicScores.buildbin-libdir && mkdir GenomicScores.buildbin-libdir && F:\biocbuild\bbs-3.17-bioc\R\bin\R.exe CMD INSTALL --build --library=GenomicScores.buildbin-libdir GenomicScores_2.12.1.tar.gz StartedAt: 2023-10-16 08:51:40 -0400 (Mon, 16 Oct 2023) EndedAt: 2023-10-16 08:52:22 -0400 (Mon, 16 Oct 2023) EllapsedTime: 42.0 seconds RetCode: 0 Status: OK PackageFile: GenomicScores_2.12.1.zip PackageFileSize: 2.745 MiB