Package: GenomicScores Version: 2.12.1 Command: /home/biocbuild/bbs-3.17-bioc/R/bin/R CMD build --keep-empty-dirs --no-resave-data GenomicScores StartedAt: 2023-10-15 16:55:29 -0400 (Sun, 15 Oct 2023) EndedAt: 2023-10-15 16:57:39 -0400 (Sun, 15 Oct 2023) EllapsedTime: 130.0 seconds RetCode: 0 Status: OK PackageFile: GenomicScores_2.12.1.tar.gz PackageFileSize: 2.513 MiB