Package: GenomicRanges Version: 1.52.1 Command: F:\biocbuild\bbs-3.17-bioc\R\bin\R.exe CMD INSTALL GenomicRanges StartedAt: 2023-10-15 15:54:24 -0400 (Sun, 15 Oct 2023) EndedAt: 2023-10-15 15:55:01 -0400 (Sun, 15 Oct 2023) EllapsedTime: 37.3 seconds RetCode: 0 Status: OK