Package: GenomicRanges Version: 1.52.1 Command: F:\biocbuild\bbs-3.17-bioc\R\bin\R.exe CMD check --no-multiarch --install=check:GenomicRanges.install-out.txt --library=F:\biocbuild\bbs-3.17-bioc\R\library --no-vignettes --timings GenomicRanges_1.52.1.tar.gz StartedAt: 2023-10-16 02:31:24 -0400 (Mon, 16 Oct 2023) EndedAt: 2023-10-16 02:35:32 -0400 (Mon, 16 Oct 2023) EllapsedTime: 248.8 seconds RetCode: 0 Status: WARNINGS CheckDir: GenomicRanges.Rcheck Warnings: 1