Package: GenomicRanges Version: 1.52.1 Command: chmod a+r GenomicRanges -R && F:\biocbuild\bbs-3.17-bioc\R\bin\R.exe CMD build --keep-empty-dirs --no-resave-data GenomicRanges StartedAt: 2023-10-15 19:28:46 -0400 (Sun, 15 Oct 2023) EndedAt: 2023-10-15 19:34:57 -0400 (Sun, 15 Oct 2023) EllapsedTime: 371.0 seconds RetCode: 0 Status: OK PackageFile: GenomicRanges_1.52.1.tar.gz PackageFileSize: 1.079 MiB