Package: GenomicRanges Version: 1.52.1 Command: /Library/Frameworks/R.framework/Resources/bin/R CMD INSTALL GenomicRanges StartedAt: 2023-10-15 15:10:27 -0400 (Sun, 15 Oct 2023) EndedAt: 2023-10-15 15:11:10 -0400 (Sun, 15 Oct 2023) EllapsedTime: 42.7 seconds RetCode: 0 Status: OK