Package: GenomicOZone Version: 1.14.0 Command: rm -rf GenomicOZone.buildbin-libdir && mkdir GenomicOZone.buildbin-libdir && F:\biocbuild\bbs-3.17-bioc\R\bin\R.exe CMD INSTALL --build --library=GenomicOZone.buildbin-libdir GenomicOZone_1.14.0.tar.gz StartedAt: 2023-10-16 08:51:36 -0400 (Mon, 16 Oct 2023) EndedAt: 2023-10-16 08:52:31 -0400 (Mon, 16 Oct 2023) EllapsedTime: 54.7 seconds RetCode: 0 Status: OK PackageFile: GenomicOZone_1.14.0.zip PackageFileSize: 1.328 MiB