Package: GenomicOZone Version: 1.14.0 Command: /home/biocbuild/bbs-3.17-bioc/R/bin/R CMD check --install=check:GenomicOZone.install-out.txt --library=/home/biocbuild/bbs-3.17-bioc/R/site-library --timings GenomicOZone_1.14.0.tar.gz StartedAt: 2023-10-15 21:35:17 -0400 (Sun, 15 Oct 2023) EndedAt: 2023-10-15 21:41:52 -0400 (Sun, 15 Oct 2023) EllapsedTime: 395.4 seconds RetCode: 0 Status: OK CheckDir: GenomicOZone.Rcheck Warnings: 0