Package: GenomicOZone Version: 1.14.0 Command: /home/biocbuild/bbs-3.17-bioc/R/bin/R CMD build --keep-empty-dirs --no-resave-data GenomicOZone StartedAt: 2023-10-15 16:55:23 -0400 (Sun, 15 Oct 2023) EndedAt: 2023-10-15 16:57:39 -0400 (Sun, 15 Oct 2023) EllapsedTime: 136.0 seconds RetCode: 0 Status: OK PackageFile: GenomicOZone_1.14.0.tar.gz PackageFileSize: 1.275 MiB