Package: GenomicInteractions Version: 1.34.0 Command: F:\biocbuild\bbs-3.17-bioc\R\bin\R.exe CMD INSTALL GenomicInteractions StartedAt: 2023-10-15 16:27:14 -0400 (Sun, 15 Oct 2023) EndedAt: 2023-10-15 16:28:52 -0400 (Sun, 15 Oct 2023) EllapsedTime: 98.4 seconds RetCode: 0 Status: OK