Package: GenomicInteractions Version: 1.34.0 Command: chmod a+r GenomicInteractions -R && F:\biocbuild\bbs-3.17-bioc\R\bin\R.exe CMD build --keep-empty-dirs --no-resave-data GenomicInteractions StartedAt: 2023-10-15 19:28:31 -0400 (Sun, 15 Oct 2023) EndedAt: 2023-10-15 19:31:43 -0400 (Sun, 15 Oct 2023) EllapsedTime: 192.5 seconds RetCode: 0 Status: OK PackageFile: GenomicInteractions_1.34.0.tar.gz PackageFileSize: 3.283 MiB