Package: GenomicInteractions Version: 1.34.0 Command: rm -rf GenomicInteractions.buildbin-libdir && mkdir GenomicInteractions.buildbin-libdir && F:\biocbuild\bbs-3.17-bioc\R\bin\R.exe CMD INSTALL --build --library=GenomicInteractions.buildbin-libdir GenomicInteractions_1.34.0.tar.gz StartedAt: 2023-10-16 08:51:35 -0400 (Mon, 16 Oct 2023) EndedAt: 2023-10-16 08:53:18 -0400 (Mon, 16 Oct 2023) EllapsedTime: 103.3 seconds RetCode: 0 Status: OK PackageFile: GenomicInteractions_1.34.0.zip PackageFileSize: 3.764 MiB