Package: GenomicInteractions Version: 1.34.0 Command: /home/biocbuild/bbs-3.17-bioc/R/bin/R CMD check --install=check:GenomicInteractions.install-out.txt --library=/home/biocbuild/bbs-3.17-bioc/R/site-library --timings GenomicInteractions_1.34.0.tar.gz StartedAt: 2023-10-15 21:35:15 -0400 (Sun, 15 Oct 2023) EndedAt: 2023-10-15 21:43:10 -0400 (Sun, 15 Oct 2023) EllapsedTime: 474.3 seconds RetCode: 0 Status: OK CheckDir: GenomicInteractions.Rcheck Warnings: 0