Package: GenomicInteractions Version: 1.34.0 Command: /home/biocbuild/bbs-3.17-bioc/R/bin/R CMD build --keep-empty-dirs --no-resave-data GenomicInteractions StartedAt: 2023-10-15 16:54:50 -0400 (Sun, 15 Oct 2023) EndedAt: 2023-10-15 16:57:52 -0400 (Sun, 15 Oct 2023) EllapsedTime: 182.5 seconds RetCode: 0 Status: OK PackageFile: GenomicInteractions_1.34.0.tar.gz PackageFileSize: 3.38 MiB