Package: GenomicInteractions Version: 1.34.0 Command: /Library/Frameworks/R.framework/Resources/bin/R CMD check --install=check:GenomicInteractions.install-out.txt --library=/Library/Frameworks/R.framework/Resources/library --no-vignettes --timings GenomicInteractions_1.34.0.tar.gz StartedAt: 2023-10-16 02:03:55 -0400 (Mon, 16 Oct 2023) EndedAt: 2023-10-16 02:18:39 -0400 (Mon, 16 Oct 2023) EllapsedTime: 883.9 seconds RetCode: 0 Status: OK CheckDir: GenomicInteractions.Rcheck Warnings: 0