Package: GenomicInteractions Version: 1.34.0 Command: /Library/Frameworks/R.framework/Resources/bin/R CMD build --keep-empty-dirs --no-resave-data GenomicInteractions StartedAt: 2023-10-15 18:32:23 -0400 (Sun, 15 Oct 2023) EndedAt: 2023-10-15 18:39:43 -0400 (Sun, 15 Oct 2023) EllapsedTime: 439.7 seconds RetCode: 0 Status: OK PackageFile: GenomicInteractions_1.34.0.tar.gz PackageFileSize: 3.388 MiB