Package: GenomicInteractions Version: 1.34.0 Command: rm -rf GenomicInteractions.buildbin-libdir && mkdir GenomicInteractions.buildbin-libdir && /Users/biocbuild/BBS/utils/build-universal.sh GenomicInteractions_1.34.0.tar.gz /Library/Frameworks/R.framework/Resources/bin/R GenomicInteractions.buildbin-libdir StartedAt: 2023-10-16 09:28:11 -0400 (Mon, 16 Oct 2023) EndedAt: 2023-10-16 09:32:22 -0400 (Mon, 16 Oct 2023) EllapsedTime: 250.6 seconds RetCode: 0 Status: OK PackageFile: GenomicInteractions_1.34.0.tgz PackageFileSize: 3.885 MiB