Package: GenomicInteractionNodes Version: 1.4.0 Command: F:\biocbuild\bbs-3.17-bioc\R\bin\R.exe CMD INSTALL GenomicInteractionNodes StartedAt: 2023-10-15 16:19:18 -0400 (Sun, 15 Oct 2023) EndedAt: 2023-10-15 16:19:57 -0400 (Sun, 15 Oct 2023) EllapsedTime: 39.5 seconds RetCode: 0 Status: OK