Package: GenomicInteractionNodes Version: 1.4.0 Command: chmod a+r GenomicInteractionNodes -R && F:\biocbuild\bbs-3.17-bioc\R\bin\R.exe CMD build --keep-empty-dirs --no-resave-data GenomicInteractionNodes StartedAt: 2023-10-15 19:28:13 -0400 (Sun, 15 Oct 2023) EndedAt: 2023-10-15 19:30:48 -0400 (Sun, 15 Oct 2023) EllapsedTime: 154.9 seconds RetCode: 0 Status: OK PackageFile: GenomicInteractionNodes_1.4.0.tar.gz PackageFileSize: 248.5 KiB