Package: GenomicInteractionNodes Version: 1.4.0 Command: /home/biocbuild/bbs-3.17-bioc/R/bin/R CMD INSTALL GenomicInteractionNodes StartedAt: 2023-10-15 15:22:16 -0400 (Sun, 15 Oct 2023) EndedAt: 2023-10-15 15:22:51 -0400 (Sun, 15 Oct 2023) EllapsedTime: 35.1 seconds RetCode: 0 Status: OK