Package: GenomicInteractionNodes Version: 1.4.0 Command: rm -rf GenomicInteractionNodes.buildbin-libdir && mkdir GenomicInteractionNodes.buildbin-libdir && /Users/biocbuild/BBS/utils/build-universal.sh GenomicInteractionNodes_1.4.0.tar.gz /Library/Frameworks/R.framework/Resources/bin/R GenomicInteractionNodes.buildbin-libdir StartedAt: 2023-10-16 09:28:06 -0400 (Mon, 16 Oct 2023) EndedAt: 2023-10-16 09:30:03 -0400 (Mon, 16 Oct 2023) EllapsedTime: 116.9 seconds RetCode: 0 Status: OK PackageFile: GenomicInteractionNodes_1.4.0.tgz PackageFileSize: 272.8 KiB