Package: GenomicFiles Version: 1.36.0 Command: F:\biocbuild\bbs-3.17-bioc\R\bin\R.exe CMD INSTALL GenomicFiles StartedAt: 2023-10-15 16:21:28 -0400 (Sun, 15 Oct 2023) EndedAt: 2023-10-15 16:22:18 -0400 (Sun, 15 Oct 2023) EllapsedTime: 49.9 seconds RetCode: 0 Status: OK