Package: GenomicFiles Version: 1.36.0 Command: rm -rf GenomicFiles.buildbin-libdir && mkdir GenomicFiles.buildbin-libdir && /Users/biocbuild/BBS/utils/build-universal.sh GenomicFiles_1.36.0.tar.gz /Library/Frameworks/R.framework/Resources/bin/R GenomicFiles.buildbin-libdir StartedAt: 2023-10-16 09:28:02 -0400 (Mon, 16 Oct 2023) EndedAt: 2023-10-16 09:30:15 -0400 (Mon, 16 Oct 2023) EllapsedTime: 133.2 seconds RetCode: 0 Status: OK PackageFile: GenomicFiles_1.36.0.tgz PackageFileSize: 990.5 KiB