Package: GenomicDistributions Version: 1.8.0 Command: /home/biocbuild/bbs-3.17-bioc/R/bin/R CMD check --install=check:GenomicDistributions.install-out.txt --library=/home/biocbuild/bbs-3.17-bioc/R/site-library --timings GenomicDistributions_1.8.0.tar.gz StartedAt: 2023-10-15 21:34:41 -0400 (Sun, 15 Oct 2023) EndedAt: 2023-10-15 21:38:07 -0400 (Sun, 15 Oct 2023) EllapsedTime: 206.3 seconds RetCode: 0 Status: OK CheckDir: GenomicDistributions.Rcheck Warnings: 0