Package: GenomicDataCommons Version: 1.24.3 Command: chmod a+r GenomicDataCommons -R && F:\biocbuild\bbs-3.17-bioc\R\bin\R.exe CMD build --keep-empty-dirs --no-resave-data GenomicDataCommons StartedAt: 2023-10-15 19:27:43 -0400 (Sun, 15 Oct 2023) EndedAt: 2023-10-15 19:28:55 -0400 (Sun, 15 Oct 2023) EllapsedTime: 72.0 seconds RetCode: 0 Status: OK PackageFile: GenomicDataCommons_1.24.3.tar.gz PackageFileSize: 2.278 MiB