Package: GenomicDataCommons Version: 1.24.3 Command: /home/biocbuild/bbs-3.17-bioc/R/bin/R CMD INSTALL GenomicDataCommons StartedAt: 2023-10-15 15:13:10 -0400 (Sun, 15 Oct 2023) EndedAt: 2023-10-15 15:13:26 -0400 (Sun, 15 Oct 2023) EllapsedTime: 15.7 seconds RetCode: 0 Status: OK