Package: GenomicDataCommons Version: 1.24.3 Command: /home/biocbuild/bbs-3.17-bioc/R/bin/R CMD check --install=check:GenomicDataCommons.install-out.txt --library=/home/biocbuild/bbs-3.17-bioc/R/site-library --timings GenomicDataCommons_1.24.3.tar.gz StartedAt: 2023-10-15 21:34:36 -0400 (Sun, 15 Oct 2023) EndedAt: 2023-10-15 21:37:06 -0400 (Sun, 15 Oct 2023) EllapsedTime: 150.0 seconds RetCode: 0 Status: OK CheckDir: GenomicDataCommons.Rcheck Warnings: 0