Package: GenomicDataCommons Version: 1.24.3 Command: /home/biocbuild/bbs-3.17-bioc/R/bin/R CMD build --keep-empty-dirs --no-resave-data GenomicDataCommons StartedAt: 2023-10-15 16:54:30 -0400 (Sun, 15 Oct 2023) EndedAt: 2023-10-15 16:55:32 -0400 (Sun, 15 Oct 2023) EllapsedTime: 61.8 seconds RetCode: 0 Status: OK PackageFile: GenomicDataCommons_1.24.3.tar.gz PackageFileSize: 2.322 MiB