Package: GenomicDataCommons Version: 1.24.3 Command: /Library/Frameworks/R.framework/Resources/bin/R CMD INSTALL GenomicDataCommons StartedAt: 2023-10-15 15:11:14 -0400 (Sun, 15 Oct 2023) EndedAt: 2023-10-15 15:11:51 -0400 (Sun, 15 Oct 2023) EllapsedTime: 37.7 seconds RetCode: 0 Status: OK