Package: GenomicDataCommons Version: 1.24.3 Command: /Library/Frameworks/R.framework/Resources/bin/R CMD build --keep-empty-dirs --no-resave-data GenomicDataCommons StartedAt: 2023-10-15 18:31:25 -0400 (Sun, 15 Oct 2023) EndedAt: 2023-10-15 18:33:20 -0400 (Sun, 15 Oct 2023) EllapsedTime: 114.6 seconds RetCode: 0 Status: OK PackageFile: GenomicDataCommons_1.24.3.tar.gz PackageFileSize: 2.385 MiB