Package: GenomeInfoDb Version: 1.36.4 Command: /home/biocbuild/bbs-3.17-bioc/R/bin/R CMD INSTALL GenomeInfoDb StartedAt: 2023-10-15 15:10:03 -0400 (Sun, 15 Oct 2023) EndedAt: 2023-10-15 15:10:19 -0400 (Sun, 15 Oct 2023) EllapsedTime: 15.1 seconds RetCode: 0 Status: OK