Package: GenomeInfoDb Version: 1.36.4 Command: /home/biocbuild/bbs-3.17-bioc/R/bin/R CMD build --keep-empty-dirs --no-resave-data GenomeInfoDb StartedAt: 2023-10-15 16:54:21 -0400 (Sun, 15 Oct 2023) EndedAt: 2023-10-15 16:54:49 -0400 (Sun, 15 Oct 2023) EllapsedTime: 28.8 seconds RetCode: 0 Status: OK PackageFile: GenomeInfoDb_1.36.4.tar.gz PackageFileSize: 3.414 MiB