Package: GenomeInfoDb Version: 1.36.4 Command: /Library/Frameworks/R.framework/Resources/bin/R CMD INSTALL GenomeInfoDb StartedAt: 2023-10-15 15:09:45 -0400 (Sun, 15 Oct 2023) EndedAt: 2023-10-15 15:10:22 -0400 (Sun, 15 Oct 2023) EllapsedTime: 36.8 seconds RetCode: 0 Status: OK