Package: GenomAutomorphism Version: 1.2.0 Command: F:\biocbuild\bbs-3.17-bioc\R\bin\R.exe CMD INSTALL GenomAutomorphism StartedAt: 2023-10-15 17:00:01 -0400 (Sun, 15 Oct 2023) EndedAt: 2023-10-15 17:00:38 -0400 (Sun, 15 Oct 2023) EllapsedTime: 37.0 seconds RetCode: 0 Status: OK