Package: GenomAutomorphism Version: 1.2.0 Command: rm -rf GenomAutomorphism.buildbin-libdir && mkdir GenomAutomorphism.buildbin-libdir && F:\biocbuild\bbs-3.17-bioc\R\bin\R.exe CMD INSTALL --build --library=GenomAutomorphism.buildbin-libdir GenomAutomorphism_1.2.0.tar.gz StartedAt: 2023-10-16 08:51:09 -0400 (Mon, 16 Oct 2023) EndedAt: 2023-10-16 08:51:48 -0400 (Mon, 16 Oct 2023) EllapsedTime: 38.3 seconds RetCode: 0 Status: OK PackageFile: GenomAutomorphism_1.2.0.zip PackageFileSize: 1.555 MiB