Package: GeneticsPed Version: 1.62.1 Command: /home/biocbuild/bbs-3.17-bioc/R/bin/R CMD INSTALL GeneticsPed StartedAt: 2023-10-15 15:09:29 -0400 (Sun, 15 Oct 2023) EndedAt: 2023-10-15 15:09:45 -0400 (Sun, 15 Oct 2023) EllapsedTime: 15.5 seconds RetCode: 0 Status: OK