Package: GeneticsPed Version: 1.62.1 Command: /Library/Frameworks/R.framework/Resources/bin/R CMD check --install=check:GeneticsPed.install-out.txt --library=/Library/Frameworks/R.framework/Resources/library --no-vignettes --timings GeneticsPed_1.62.1.tar.gz StartedAt: 2023-10-16 02:00:40 -0400 (Mon, 16 Oct 2023) EndedAt: 2023-10-16 02:01:46 -0400 (Mon, 16 Oct 2023) EllapsedTime: 66.0 seconds RetCode: 0 Status: OK CheckDir: GeneticsPed.Rcheck Warnings: 0