Package: GeneTonic Version: 2.4.2 Command: chmod a+r GeneTonic -R && F:\biocbuild\bbs-3.17-bioc\R\bin\R.exe CMD build --keep-empty-dirs --no-resave-data GeneTonic StartedAt: 2023-10-15 19:26:56 -0400 (Sun, 15 Oct 2023) EndedAt: 2023-10-15 19:28:45 -0400 (Sun, 15 Oct 2023) EllapsedTime: 108.8 seconds RetCode: 0 Status: OK PackageFile: GeneTonic_2.4.2.tar.gz PackageFileSize: 7.446 MiB