Package: GeneTonic Version: 2.4.2 Command: rm -rf GeneTonic.buildbin-libdir && mkdir GeneTonic.buildbin-libdir && F:\biocbuild\bbs-3.17-bioc\R\bin\R.exe CMD INSTALL --build --library=GeneTonic.buildbin-libdir GeneTonic_2.4.2.tar.gz StartedAt: 2023-10-16 08:51:01 -0400 (Mon, 16 Oct 2023) EndedAt: 2023-10-16 08:51:51 -0400 (Mon, 16 Oct 2023) EllapsedTime: 49.9 seconds RetCode: 0 Status: OK PackageFile: GeneTonic_2.4.2.zip PackageFileSize: 7.55 MiB