Package: GeneSelectMMD Version: 2.44.1 Command: F:\biocbuild\bbs-3.17-bioc\R\bin\R.exe CMD check --no-multiarch --install=check:GeneSelectMMD.install-out.txt --library=F:\biocbuild\bbs-3.17-bioc\R\library --no-vignettes --timings GeneSelectMMD_2.44.1.tar.gz StartedAt: 2023-10-16 02:28:05 -0400 (Mon, 16 Oct 2023) EndedAt: 2023-10-16 02:28:56 -0400 (Mon, 16 Oct 2023) EllapsedTime: 51.3 seconds RetCode: 0 Status: OK CheckDir: GeneSelectMMD.Rcheck Warnings: 0