Package: GeneSelectMMD Version: 2.44.1 Command: rm -rf GeneSelectMMD.buildbin-libdir && mkdir GeneSelectMMD.buildbin-libdir && F:\biocbuild\bbs-3.17-bioc\R\bin\R.exe CMD INSTALL --build --library=GeneSelectMMD.buildbin-libdir GeneSelectMMD_2.44.1.tar.gz StartedAt: 2023-10-16 08:50:50 -0400 (Mon, 16 Oct 2023) EndedAt: 2023-10-16 08:51:04 -0400 (Mon, 16 Oct 2023) EllapsedTime: 14.4 seconds RetCode: 0 Status: OK PackageFile: GeneSelectMMD_2.44.1.zip PackageFileSize: 575.7 KiB